BEGIN:VCALENDAR
VERSION:2.0
PRODID:icalendar-ruby
CALSCALE:GREGORIAN
METHOD:PUBLISH
BEGIN:VEVENT
DTSTAMP:20260419T200358Z
UID:14-1485583@memorialwvumc.org
DTSTART:20260930T230000Z
DTEND:20260930T230000Z
CLASS:PUBLIC
CREATED:20260419T125022
DESCRIPTION:
LAST-MODIFIED:20260419T125022
LOCATION: Church
SUMMARY:Choir Practice
URL;VALUE=URI:https://www.memorialwvumc.org/events/choir-practice/2026-09-3
 0
ATTACH;FILENAME=Choir graphic.png;FMTTYPE=image/png:https://dq5pwpg1q8ru0.c
 loudfront.net/2024/12/19/10/32/18/ef728605-d873-4857-8011-76f104bbdec4/Cho
 ir%20graphic.png
END:VEVENT
END:VCALENDAR
