BEGIN:VCALENDAR
VERSION:2.0
PRODID:icalendar-ruby
CALSCALE:GREGORIAN
METHOD:PUBLISH
BEGIN:VEVENT
DTSTAMP:20260421T111659Z
UID:5-1491075@memorialwvumc.org
DTSTART:20260809T150000Z
DTEND:20260809T160000Z
CLASS:PUBLIC
CREATED:20260420T210504
DESCRIPTION:Sunday Worship
LAST-MODIFIED:20260420T210504
LOCATION:
SUMMARY:Sunday Worship
URL;VALUE=URI:https://www.memorialwvumc.org/events/sunday-worship/2026-08-0
 9
END:VEVENT
END:VCALENDAR
