BEGIN:VCALENDAR
VERSION:2.0
PRODID:icalendar-ruby
CALSCALE:GREGORIAN
METHOD:PUBLISH
BEGIN:VEVENT
DTSTAMP:20260421T124258Z
UID:5-1491645@memorialwvumc.org
DTSTART:20260816T150000Z
DTEND:20260816T160000Z
CLASS:PUBLIC
CREATED:20260421T081156
DESCRIPTION:Sunday Worship
LAST-MODIFIED:20260421T081156
LOCATION:
SUMMARY:Sunday Worship
URL;VALUE=URI:https://www.memorialwvumc.org/events/sunday-worship/2026-08-1
 6
END:VEVENT
END:VCALENDAR
