BEGIN:VCALENDAR
VERSION:2.0
PRODID:icalendar-ruby
CALSCALE:GREGORIAN
METHOD:PUBLISH
BEGIN:VEVENT
DTSTAMP:20260421T152735Z
UID:5-1492216@memorialwvumc.org
DTSTART:20260830T150000Z
DTEND:20260830T160000Z
CLASS:PUBLIC
CREATED:20260421T104721
DESCRIPTION:Sunday Worship
LAST-MODIFIED:20260421T104721
LOCATION:
SUMMARY:Sunday Worship
URL;VALUE=URI:https://www.memorialwvumc.org/events/sunday-worship/2026-08-3
 0
END:VEVENT
END:VCALENDAR
