BEGIN:VCALENDAR
VERSION:2.0
PRODID:icalendar-ruby
CALSCALE:GREGORIAN
METHOD:PUBLISH
BEGIN:VEVENT
DTSTAMP:20260421T182705Z
UID:5-1492787@memorialwvumc.org
DTSTART:20260913T150000Z
DTEND:20260913T160000Z
CLASS:PUBLIC
CREATED:20260421T132727
DESCRIPTION:Sunday Worship
LAST-MODIFIED:20260421T132727
LOCATION:
SUMMARY:Sunday Worship
URL;VALUE=URI:https://www.memorialwvumc.org/events/sunday-worship/2026-09-1
 3
END:VEVENT
END:VCALENDAR
