BEGIN:VCALENDAR
VERSION:2.0
PRODID:icalendar-ruby
CALSCALE:GREGORIAN
METHOD:PUBLISH
BEGIN:VEVENT
DTSTAMP:20260421T212016Z
UID:5-1493358@memorialwvumc.org
DTSTART:20260927T150000Z
DTEND:20260927T160000Z
CLASS:PUBLIC
CREATED:20260421T160323
DESCRIPTION:Sunday Worship
LAST-MODIFIED:20260421T160323
LOCATION:
SUMMARY:Sunday Worship
URL;VALUE=URI:https://www.memorialwvumc.org/events/sunday-worship/2026-09-2
 7
END:VEVENT
END:VCALENDAR
